BEGIN:VCALENDAR
VERSION:2.0
PRODID:-//TYPO3/NONSGML News system (news)//EN
BEGIN:VEVENT
TZID:Central Europe Standard Time
UID:news-63034@bci.tu-dortmund.de
DTSTAMP:20260421T142823Z

DTSTART:20260617T130000
DTEND:20260617T140000


LOCATION:BCI-Galerie F1-U03

DESCRIPTION:https://bci.tu-dortmund.de/veranstaltungsdetail/bci-kolloquium-11-63034/
SUMMARY:BCI Kolloquium
END:VEVENT
END:VCALENDAR
